BEGIN:VCALENDAR
VERSION:2.0
PRODID:-// Orthodox Parish of St. Michael - ECPv6.15.20//NONSGML v1.0//EN
CALSCALE:GREGORIAN
METHOD:PUBLISH
X-ORIGINAL-URL:https://stokeorthodox.org
X-WR-CALDESC:Events for  Orthodox Parish of St. Michael
REFRESH-INTERVAL;VALUE=DURATION:PT1H
X-Robots-Tag:noindex
X-PUBLISHED-TTL:PT1H
BEGIN:VTIMEZONE
TZID:Europe/London
BEGIN:DAYLIGHT
TZOFFSETFROM:+0000
TZOFFSETTO:+0100
TZNAME:BST
DTSTART:20250330T010000
END:DAYLIGHT
BEGIN:STANDARD
TZOFFSETFROM:+0100
TZOFFSETTO:+0000
TZNAME:GMT
DTSTART:20251026T010000
END:STANDARD
BEGIN:DAYLIGHT
TZOFFSETFROM:+0000
TZOFFSETTO:+0100
TZNAME:BST
DTSTART:20260329T010000
END:DAYLIGHT
BEGIN:STANDARD
TZOFFSETFROM:+0100
TZOFFSETTO:+0000
TZNAME:GMT
DTSTART:20261025T010000
END:STANDARD
BEGIN:DAYLIGHT
TZOFFSETFROM:+0000
TZOFFSETTO:+0100
TZNAME:BST
DTSTART:20270328T010000
END:DAYLIGHT
BEGIN:STANDARD
TZOFFSETFROM:+0100
TZOFFSETTO:+0000
TZNAME:GMT
DTSTART:20271031T010000
END:STANDARD
END:VTIMEZONE
BEGIN:VEVENT
DTSTART;TZID=Europe/London:20260322T110000
DTEND;TZID=Europe/London:20260322T110000
DTSTAMP:20260423T160531
CREATED:20260306T211526Z
LAST-MODIFIED:20260306T222655Z
UID:2967-1774177200-1774177200@stokeorthodox.org
SUMMARY:SUNDAY OF ST JOHN OF THE LADDER (CLIMACUS)
DESCRIPTION:Divine Liturgy of St Basil\, followed by fasting refreshments
URL:https://stokeorthodox.org/event/sunday-of-st-john-of-the-ladder-climacus/
LOCATION:Holy Resurrection Orthodox Church (Parish of St. Michael) – Dresden\, Red Bank\, Dresden\, Stoke-on-Trent\, ST3 4PD\, United Kingdom
END:VEVENT
END:VCALENDAR