BEGIN:VCALENDAR
VERSION:2.0
PRODID:-// Orthodox Parish of St. Michael - ECPv6.15.20//NONSGML v1.0//EN
CALSCALE:GREGORIAN
METHOD:PUBLISH
X-ORIGINAL-URL:https://stokeorthodox.org
X-WR-CALDESC:Events for  Orthodox Parish of St. Michael
REFRESH-INTERVAL;VALUE=DURATION:PT1H
X-Robots-Tag:noindex
X-PUBLISHED-TTL:PT1H
BEGIN:VTIMEZONE
TZID:Europe/London
BEGIN:DAYLIGHT
TZOFFSETFROM:+0000
TZOFFSETTO:+0100
TZNAME:BST
DTSTART:20250330T010000
END:DAYLIGHT
BEGIN:STANDARD
TZOFFSETFROM:+0100
TZOFFSETTO:+0000
TZNAME:GMT
DTSTART:20251026T010000
END:STANDARD
BEGIN:DAYLIGHT
TZOFFSETFROM:+0000
TZOFFSETTO:+0100
TZNAME:BST
DTSTART:20260329T010000
END:DAYLIGHT
BEGIN:STANDARD
TZOFFSETFROM:+0100
TZOFFSETTO:+0000
TZNAME:GMT
DTSTART:20261025T010000
END:STANDARD
BEGIN:DAYLIGHT
TZOFFSETFROM:+0000
TZOFFSETTO:+0100
TZNAME:BST
DTSTART:20270328T010000
END:DAYLIGHT
BEGIN:STANDARD
TZOFFSETFROM:+0100
TZOFFSETTO:+0000
TZNAME:GMT
DTSTART:20271031T010000
END:STANDARD
END:VTIMEZONE
BEGIN:VEVENT
DTSTART;TZID=Europe/London:20260405T110000
DTEND;TZID=Europe/London:20260405T110000
DTSTAMP:20260423T142825
CREATED:20260306T212128Z
LAST-MODIFIED:20260306T222549Z
UID:2979-1775386800-1775386800@stokeorthodox.org
SUMMARY:PALM SUNDAY
DESCRIPTION:PALM SUNDAY – THE FEAST OF THE TRIUMPHANT ENTRY OF OUR LORD INTO JERUSALEM\nReception of several catechumens into the Church by Chrismation\, followed by Divine Liturgy of St John Chrysostom and fasting refreshments
URL:https://stokeorthodox.org/event/palm-sunday/
LOCATION:Holy Resurrection Orthodox Church (Parish of St. Michael) – Dresden\, Red Bank\, Dresden\, Stoke-on-Trent\, ST3 4PD\, United Kingdom
END:VEVENT
END:VCALENDAR