BEGIN:VCALENDAR
VERSION:2.0
PRODID:-// Orthodox Parish of St. Michael - ECPv6.15.20//NONSGML v1.0//EN
CALSCALE:GREGORIAN
METHOD:PUBLISH
X-ORIGINAL-URL:https://stokeorthodox.org
X-WR-CALDESC:Events for  Orthodox Parish of St. Michael
REFRESH-INTERVAL;VALUE=DURATION:PT1H
X-Robots-Tag:noindex
X-PUBLISHED-TTL:PT1H
BEGIN:VTIMEZONE
TZID:Europe/London
BEGIN:DAYLIGHT
TZOFFSETFROM:+0000
TZOFFSETTO:+0100
TZNAME:BST
DTSTART:20250330T010000
END:DAYLIGHT
BEGIN:STANDARD
TZOFFSETFROM:+0100
TZOFFSETTO:+0000
TZNAME:GMT
DTSTART:20251026T010000
END:STANDARD
BEGIN:DAYLIGHT
TZOFFSETFROM:+0000
TZOFFSETTO:+0100
TZNAME:BST
DTSTART:20260329T010000
END:DAYLIGHT
BEGIN:STANDARD
TZOFFSETFROM:+0100
TZOFFSETTO:+0000
TZNAME:GMT
DTSTART:20261025T010000
END:STANDARD
BEGIN:DAYLIGHT
TZOFFSETFROM:+0000
TZOFFSETTO:+0100
TZNAME:BST
DTSTART:20270328T010000
END:DAYLIGHT
BEGIN:STANDARD
TZOFFSETFROM:+0100
TZOFFSETTO:+0000
TZNAME:GMT
DTSTART:20271031T010000
END:STANDARD
END:VTIMEZONE
BEGIN:VEVENT
DTSTART;TZID=Europe/London:20260408T190000
DTEND;TZID=Europe/London:20260408T200000
DTSTAMP:20260423T221221
CREATED:20260306T212546Z
LAST-MODIFIED:20260330T103954Z
UID:2985-1775674800-1775678400@stokeorthodox.org
SUMMARY:Great and Holy Wednesday - Anointing Service
DESCRIPTION:
URL:https://stokeorthodox.org/event/anointing-service/
LOCATION:Holy Resurrection Orthodox Church (Parish of St. Michael) – Dresden\, Red Bank\, Dresden\, Stoke-on-Trent\, ST3 4PD\, United Kingdom
END:VEVENT
BEGIN:VEVENT
DTSTART;TZID=Europe/London:20260409T110000
DTEND;TZID=Europe/London:20260409T110000
DTSTAMP:20260423T221221
CREATED:20260306T212647Z
LAST-MODIFIED:20260330T104037Z
UID:2987-1775732400-1775732400@stokeorthodox.org
SUMMARY:Great and Holy Thursday - Vesperal Divine Liturgy
DESCRIPTION:Vesperal Divine Liturgy of St Basil the Great.
URL:https://stokeorthodox.org/event/vesperal-divine-liturgy/
LOCATION:Holy Resurrection Orthodox Church (Parish of St. Michael) – Dresden\, Red Bank\, Dresden\, Stoke-on-Trent\, ST3 4PD\, United Kingdom
END:VEVENT
BEGIN:VEVENT
DTSTART;TZID=Europe/London:20260409T190000
DTEND;TZID=Europe/London:20260409T190000
DTSTAMP:20260423T221221
CREATED:20260306T212721Z
LAST-MODIFIED:20260330T105125Z
UID:2989-1775761200-1775761200@stokeorthodox.org
SUMMARY:Great and Holy Thursday - Holy Friday Matins
DESCRIPTION:Holy Friday Matins (Matins of the 12 Gospels)
URL:https://stokeorthodox.org/event/holy-friday-matins/
LOCATION:Holy Resurrection Orthodox Church (Parish of St. Michael) – Dresden\, Red Bank\, Dresden\, Stoke-on-Trent\, ST3 4PD\, United Kingdom
END:VEVENT
BEGIN:VEVENT
DTSTART;TZID=Europe/London:20260410T120000
DTEND;TZID=Europe/London:20260410T120000
DTSTAMP:20260423T221221
CREATED:20260306T212900Z
LAST-MODIFIED:20260330T104147Z
UID:2991-1775822400-1775822400@stokeorthodox.org
SUMMARY:GREAT AND HOLY FRIDAY - Midday onwards
DESCRIPTION:From midday onwards – decoration of the Bier\n2pm – Vespers of the taking down of Christ from the Cross\nBetween Vespers and Matins – decoration of the church with Paschal flowers\n7pm – Matins of Holy Saturday and Lamentations – Christ’s funeral service
URL:https://stokeorthodox.org/event/great-and-holy-friday/
LOCATION:Holy Resurrection Orthodox Church (Parish of St. Michael) – Dresden\, Red Bank\, Dresden\, Stoke-on-Trent\, ST3 4PD\, United Kingdom
END:VEVENT
BEGIN:VEVENT
DTSTART;TZID=Europe/London:20260411T110000
DTEND;TZID=Europe/London:20260411T110000
DTSTAMP:20260423T221221
CREATED:20260306T210842Z
LAST-MODIFIED:20260306T222446Z
UID:2955-1775905200-1775905200@stokeorthodox.org
SUMMARY:GREAT AND HOLY SATURDAY - Vesperal Divine Liturgy of St Basil
DESCRIPTION:Please Note:\nPARKING AT PASCHA – WE HAVE APPLIED TO THE COUNCIL TO CLOSE RED BANK AND PEEL STREET ON THE NIGHT OF GREAT AND HOLY SATURDAY\, SO YOU WILL NOT BE ABLE TO PARK ON THESE STREETS – please share lifts where possible\, arrive earlier\, and be prepared to park further away and walk to the church. We are doing this out of consideration for our neighbours. Also\, please keep noise to a minimum when heading home after the service.
URL:https://stokeorthodox.org/event/great-and-holy-saturday-vesperal-divine-liturgy-of-st-basil/
LOCATION:Holy Resurrection Orthodox Church (Parish of St. Michael) – Dresden\, Red Bank\, Dresden\, Stoke-on-Trent\, ST3 4PD\, United Kingdom
END:VEVENT
BEGIN:VEVENT
DTSTART;TZID=Europe/London:20260411T230000
DTEND;TZID=Europe/London:20260411T230000
DTSTAMP:20260423T221221
CREATED:20260306T211007Z
LAST-MODIFIED:20260306T213042Z
UID:2957-1775948400-1775948400@stokeorthodox.org
SUMMARY:HOLY PASCHA - Matins of the Resurrection and Divine Liturgy of St John Chrysostom
DESCRIPTION:Midnight Office\, leading straight into:\nHOLY PASCHA\, THE RESURRECTION OF OUR LORD AND SAVIOUR JESUS CHRIST\nMatins of the Resurrection and Divine Liturgy of St John Chrysostom \n  \nPlease Note:\nPARKING AT PASCHA – WE HAVE APPLIED TO THE COUNCIL TO CLOSE RED BANK AND PEEL STREET ON THE NIGHT OF GREAT AND HOLY SATURDAY\, SO YOU WILL NOT BE ABLE TO PARK ON THESE STREETS – please share lifts where possible\, arrive earlier\, and be prepared to park further away and walk to the church. We are doing this out of consideration for our neighbours. Also\, please keep noise to a minimum when heading home after the service.
URL:https://stokeorthodox.org/event/holy-pascha-matins-of-the-resurrection-and-divine-liturgy-of-st-john-chrysostom/
LOCATION:Holy Resurrection Orthodox Church (Parish of St. Michael) – Dresden\, Red Bank\, Dresden\, Stoke-on-Trent\, ST3 4PD\, United Kingdom
END:VEVENT
BEGIN:VEVENT
DTSTART;TZID=Europe/London:20260412T140000
DTEND;TZID=Europe/London:20260412T140000
DTSTAMP:20260423T221221
CREATED:20260306T213027Z
LAST-MODIFIED:20260330T104659Z
UID:2993-1776002400-1776002400@stokeorthodox.org
SUMMARY:HOLY PASCHA\, THE RESURRECTION OF OUR LORD AND SAVIOUR JESUS CHRIST
DESCRIPTION:Agape Vespers followed by a bring and share FEAST at the back of church \nPlease Note:\nPARKING AT PASCHA – WE HAVE APPLIED TO THE COUNCIL TO CLOSE RED BANK AND PEEL STREET ON THE NIGHT OF GREAT AND HOLY SATURDAY\, SO YOU WILL NOT BE ABLE TO PARK ON THESE STREETS – please share lifts where possible\, arrive earlier\, and be prepared to park further away and walk to the church. We are doing this out of consideration for our neighbours. Also\, please keep noise to a minimum when heading home after the service.
URL:https://stokeorthodox.org/event/holy-pascha-the-resurrection-of-our-lord-and-saviour-jesus-christ/
LOCATION:Holy Resurrection Orthodox Church (Parish of St. Michael) – Dresden\, Red Bank\, Dresden\, Stoke-on-Trent\, ST3 4PD\, United Kingdom
END:VEVENT
BEGIN:VEVENT
DTSTART;TZID=Europe/London:20260415T110000
DTEND;TZID=Europe/London:20260415T110000
DTSTAMP:20260423T221221
CREATED:20260411T160351Z
LAST-MODIFIED:20260413T174836Z
UID:3051-1776250800-1776250800@stokeorthodox.org
SUMMARY:Bright Wednesday - Divine Liturgy
DESCRIPTION:Divine Liturgy\, followed by refreshments and fellowship
URL:https://stokeorthodox.org/event/bright-wednesday-divine-liturgy/
LOCATION:St Michael’s Orthodox Church – Audley\, 30 Wereton Rd\,\, Audley\, Stoke-on-Trent\, ST7 8EN\, United Kingdom
END:VEVENT
BEGIN:VEVENT
DTSTART;TZID=Europe/London:20260418T160000
DTEND;TZID=Europe/London:20260418T160000
DTSTAMP:20260423T221221
CREATED:20260411T160507Z
LAST-MODIFIED:20260413T174931Z
UID:3053-1776528000-1776528000@stokeorthodox.org
SUMMARY:Bright Saturday - Trustees/Parish Council meeting
DESCRIPTION:
URL:https://stokeorthodox.org/event/bright-saturday-trustees-parish-council-meeting/
LOCATION:Holy Resurrection Orthodox Church (Parish of St. Michael) – Dresden\, Red Bank\, Dresden\, Stoke-on-Trent\, ST3 4PD\, United Kingdom
END:VEVENT
BEGIN:VEVENT
DTSTART;TZID=Europe/London:20260418T180000
DTEND;TZID=Europe/London:20260418T180000
DTSTAMP:20260423T221221
CREATED:20260411T160614Z
LAST-MODIFIED:20260413T175141Z
UID:3055-1776535200-1776535200@stokeorthodox.org
SUMMARY:Bright Saturday - Great Vespers
DESCRIPTION:
URL:https://stokeorthodox.org/event/bright-saturday-great-vespers/
LOCATION:Holy Resurrection Orthodox Church (Parish of St. Michael) – Dresden\, Red Bank\, Dresden\, Stoke-on-Trent\, ST3 4PD\, United Kingdom
END:VEVENT
BEGIN:VEVENT
DTSTART;TZID=Europe/London:20260419T093000
DTEND;TZID=Europe/London:20260419T103000
DTSTAMP:20260423T221221
CREATED:20260411T160801Z
LAST-MODIFIED:20260413T174946Z
UID:3057-1776591000-1776594600@stokeorthodox.org
SUMMARY:ST THOMAS SUNDAY - Catechesis Session
DESCRIPTION:Catechesis session with Father Deacon John\, for everyone interested in learning more about the Orthodox faith\,\nand those preparing to be received into the church – all welcome!
URL:https://stokeorthodox.org/event/st-thomas-sunday-catechesis-session/
LOCATION:Holy Resurrection Orthodox Church (Parish of St. Michael) – Dresden\, Red Bank\, Dresden\, Stoke-on-Trent\, ST3 4PD\, United Kingdom
END:VEVENT
BEGIN:VEVENT
DTSTART;TZID=Europe/London:20260419T110000
DTEND;TZID=Europe/London:20260419T110000
DTSTAMP:20260423T221221
CREATED:20260411T160833Z
LAST-MODIFIED:20260413T175002Z
UID:3059-1776596400-1776596400@stokeorthodox.org
SUMMARY:ST THOMAS SUNDAY - Divine Liturgy
DESCRIPTION:
URL:https://stokeorthodox.org/event/st-thomas-sunday-divine-liturgy/
LOCATION:Holy Resurrection Orthodox Church (Parish of St. Michael) – Dresden\, Red Bank\, Dresden\, Stoke-on-Trent\, ST3 4PD\, United Kingdom
END:VEVENT
BEGIN:VEVENT
DTSTART;TZID=Europe/London:20260422T110000
DTEND;TZID=Europe/London:20260422T110000
DTSTAMP:20260423T221221
CREATED:20260411T161226Z
LAST-MODIFIED:20260413T175024Z
UID:3063-1776855600-1776855600@stokeorthodox.org
SUMMARY:Divine Liturgy
DESCRIPTION:Divine Liturgy\, celebrating the Holy\, Great Martyr George\, followed by refreshments and fellowship
URL:https://stokeorthodox.org/event/divine-liturgy-2/
LOCATION:St Michael’s Orthodox Church – Audley\, 30 Wereton Rd\,\, Audley\, Stoke-on-Trent\, ST7 8EN\, United Kingdom
END:VEVENT
BEGIN:VEVENT
DTSTART;TZID=Europe/London:20260425T180000
DTEND;TZID=Europe/London:20260425T180000
DTSTAMP:20260423T221221
CREATED:20260411T161257Z
LAST-MODIFIED:20260413T175028Z
UID:3065-1777140000-1777140000@stokeorthodox.org
SUMMARY:Great Vespers
DESCRIPTION:
URL:https://stokeorthodox.org/event/great-vespers-5/
LOCATION:Holy Resurrection Orthodox Church (Parish of St. Michael) – Dresden\, Red Bank\, Dresden\, Stoke-on-Trent\, ST3 4PD\, United Kingdom
END:VEVENT
BEGIN:VEVENT
DTSTART;TZID=Europe/London:20260426T093000
DTEND;TZID=Europe/London:20260426T103000
DTSTAMP:20260423T221221
CREATED:20260411T161413Z
LAST-MODIFIED:20260413T175033Z
UID:3067-1777195800-1777199400@stokeorthodox.org
SUMMARY:Catechesis session
DESCRIPTION:SUNDAY OF THE HOLY MYRRH-BEARING WOMEN \nCatechesis session with Fr John\, for everyone interested in learning more about the Orthodox faith\,\nand those preparing to be received into the church – all welcome!
URL:https://stokeorthodox.org/event/catechesis-session/
LOCATION:Holy Resurrection Orthodox Church (Parish of St. Michael) – Dresden\, Red Bank\, Dresden\, Stoke-on-Trent\, ST3 4PD\, United Kingdom
END:VEVENT
BEGIN:VEVENT
DTSTART;TZID=Europe/London:20260426T110000
DTEND;TZID=Europe/London:20260426T110000
DTSTAMP:20260423T221221
CREATED:20260411T161500Z
LAST-MODIFIED:20260413T175039Z
UID:3069-1777201200-1777201200@stokeorthodox.org
SUMMARY:Divine Liturgy
DESCRIPTION:SUNDAY OF THE HOLY MYRRH-BEARING WOMEN \nDivine Liturgy\, followed by refreshments and fellowship \n 
URL:https://stokeorthodox.org/event/divine-liturgy-3/
LOCATION:Holy Resurrection Orthodox Church (Parish of St. Michael) – Dresden\, Red Bank\, Dresden\, Stoke-on-Trent\, ST3 4PD\, United Kingdom
END:VEVENT
BEGIN:VEVENT
DTSTART;TZID=Europe/London:20260429T110000
DTEND;TZID=Europe/London:20260429T110000
DTSTAMP:20260423T221221
CREATED:20260411T161539Z
LAST-MODIFIED:20260413T175043Z
UID:3071-1777460400-1777460400@stokeorthodox.org
SUMMARY:Divine Liturgy
DESCRIPTION:Divine Liturgy\, followed by refreshments and fellowship
URL:https://stokeorthodox.org/event/divine-liturgy-4/
LOCATION:St Michael’s Orthodox Church – Audley\, 30 Wereton Rd\,\, Audley\, Stoke-on-Trent\, ST7 8EN\, United Kingdom
END:VEVENT
BEGIN:VEVENT
DTSTART;TZID=Europe/London:20260503T093000
DTEND;TZID=Europe/London:20260503T103000
DTSTAMP:20260423T221221
CREATED:20260423T134019Z
LAST-MODIFIED:20260423T134019Z
UID:3094-1777800600-1777804200@stokeorthodox.org
SUMMARY:Catechesis session with Fr John
DESCRIPTION:Catechesis session with Fr John (all welcome!)
URL:https://stokeorthodox.org/event/catechesis-session-with-fr-john/
LOCATION:Holy Resurrection Orthodox Church (Parish of St. Michael) – Dresden\, Red Bank\, Dresden\, Stoke-on-Trent\, ST3 4PD\, United Kingdom
END:VEVENT
BEGIN:VEVENT
DTSTART;TZID=Europe/London:20260510T093000
DTEND;TZID=Europe/London:20260510T103000
DTSTAMP:20260423T221221
CREATED:20260423T140152Z
LAST-MODIFIED:20260423T140152Z
UID:3104-1778405400-1778409000@stokeorthodox.org
SUMMARY:Catechesis session
DESCRIPTION:Catechesis session with Fr John (all welcome)
URL:https://stokeorthodox.org/event/catechesis-session-2/
LOCATION:Holy Resurrection Orthodox Church (Parish of St. Michael) – Dresden\, Red Bank\, Dresden\, Stoke-on-Trent\, ST3 4PD\, United Kingdom
END:VEVENT
BEGIN:VEVENT
DTSTART;TZID=Europe/London:20260517T093000
DTEND;TZID=Europe/London:20260517T103000
DTSTAMP:20260423T221221
CREATED:20260423T142041Z
LAST-MODIFIED:20260423T142041Z
UID:3114-1779010200-1779013800@stokeorthodox.org
SUMMARY:Catechesis Session
DESCRIPTION:Catechesis session with Fr John (all welcome)
URL:https://stokeorthodox.org/event/catechesis-session-3/
LOCATION:Holy Resurrection Orthodox Church (Parish of St. Michael) – Dresden\, Red Bank\, Dresden\, Stoke-on-Trent\, ST3 4PD\, United Kingdom
END:VEVENT
BEGIN:VEVENT
DTSTART;TZID=Europe/London:20260530T180000
DTEND;TZID=Europe/London:20260530T190000
DTSTAMP:20260423T221221
CREATED:20260423T143249Z
LAST-MODIFIED:20260423T143306Z
UID:3128-1780164000-1780167600@stokeorthodox.org
SUMMARY:Memorial followed by Great Vespers - Saturday of Souls
DESCRIPTION:
URL:https://stokeorthodox.org/event/memorial-followed-by-great-vespers/
LOCATION:Holy Resurrection Orthodox Church (Parish of St. Michael) – Dresden\, Red Bank\, Dresden\, Stoke-on-Trent\, ST3 4PD\, United Kingdom
END:VEVENT
END:VCALENDAR